BEGIN:VCALENDAR
VERSION:2.0
PRODID:-//CERN//INDICO//EN
BEGIN:VEVENT
SUMMARY:The magnetic system for the PTOLEMY experiment at LNGS -- Stefania
  Farinon (INFN Genova\, Italy)
DTSTART:20260423T120000Z
DTEND:20260423T133000Z
DTSTAMP:20260421T033100Z
UID:indico-event-1660313@indico.cern.ch
DESCRIPTION:Speakers: Franco Julio Mangiarotti (CERN)\n\nhttps://indico.ce
 rn.ch/event/1660313/
LOCATION:30/7-010 (CERN)
URL:https://indico.cern.ch/event/1660313/
END:VEVENT
END:VCALENDAR
