BEGIN:VCALENDAR
VERSION:2.0
PRODID:-//CERN//INDICO//EN
BEGIN:VEVENT
SUMMARY:69th SY-BI Students and R&D meeting
DTSTART:20260312T083000Z
DTEND:20260312T103000Z
DTSTAMP:20260420T224600Z
UID:indico-event-1660319@indico.cern.ch
DESCRIPTION:Speakers: Kacper Lasocha (CERN)\, Inaki Ortega Ruiz (CERN)\n\n
 https://indico.cern.ch/event/1660319/
LOCATION:866/2-D05 (CERN)
URL:https://indico.cern.ch/event/1660319/
END:VEVENT
END:VCALENDAR
