BEGIN:VCALENDAR
VERSION:2.0
PRODID:-//CERN//INDICO//EN
BEGIN:VEVENT
SUMMARY:Frühstück der deutschen Community
DTSTART:20260320T083000Z
DTEND:20260320T091500Z
DTSTAMP:20260423T014500Z
UID:indico-event-1660835@indico.cern.ch
DESCRIPTION:https://indico.cern.ch/event/1660835/
LOCATION:501/R-051 (CERN)
URL:https://indico.cern.ch/event/1660835/
END:VEVENT
END:VCALENDAR
