BEGIN:VCALENDAR
VERSION:2.0
PRODID:-//CERN//INDICO//EN
BEGIN:VEVENT
SUMMARY:BOND-M: Engineering design meeting #11
DTSTART:20260310T133000Z
DTEND:20260310T145000Z
DTSTAMP:20260422T055600Z
UID:indico-event-1661149@indico.cern.ch
DESCRIPTION:https://indico.cern.ch/event/1661149/
URL:https://indico.cern.ch/event/1661149/
END:VEVENT
END:VCALENDAR
