BEGIN:VCALENDAR
VERSION:2.0
PRODID:-//CERN//INDICO//EN
BEGIN:VEVENT
SUMMARY:ROOT Team Meeting
DTSTART:20260309T150000Z
DTEND:20260309T163000Z
DTSTAMP:20260421T141800Z
UID:indico-event-1661185@indico.cern.ch
DESCRIPTION:Speakers: Jakob Blomer (CERN)\, Danilo Piparo (CERN)\n\nhttps:
 //indico.cern.ch/event/1661185/
LOCATION:32/1-A24 (CERN)
URL:https://indico.cern.ch/event/1661185/
END:VEVENT
END:VCALENDAR
