BEGIN:VCALENDAR
VERSION:2.0
PRODID:-//CERN//INDICO//EN
BEGIN:VEVENT
SUMMARY:Rucio Meeting
DTSTART:20260402T130000Z
DTEND:20260402T140000Z
DTSTAMP:20260423T093500Z
UID:indico-event-1661233@indico.cern.ch
DESCRIPTION:Speakers: Dimitrios Christidis (CERN)\n\nhttps://indico.cern.c
 h/event/1661233/\n\nZoom: https://cern.zoom.us/j/69426538800?pwd=lFFBfeP36
 EE2T9blPanMQHSBGbtZGD.1
URL:https://indico.cern.ch/event/1661233/
END:VEVENT
END:VCALENDAR
