BEGIN:VCALENDAR
VERSION:2.0
PRODID:-//CERN//INDICO//EN
BEGIN:VEVENT
SUMMARY:Joint WG1+WG2+WG3 COMETA meeting on hadronic polarisation taggers
DTSTART:20260428T104500Z
DTEND:20260428T140500Z
DTSTAMP:20260422T063400Z
UID:indico-event-1661238@indico.cern.ch
DESCRIPTION:COMETA (COmprehensive Multiboson Experiment-Theory Action) is 
 an EU-funded project that aims to connect members of the HEP theory\, expe
 riment\, and Machine Learning communities\, with the goal of improving mea
 surements of multi-boson processes at the (HL-)LHC and their interpretatio
 n. The vast research program covered by COMETA includes precision calcula
 tions\, EFT and BSM interpretations\, the development of jet-substructure 
 algorithms\, and W/Z polarization taggers. COMETA also aims to create an 
 inclusive and informal environment where young scientists and researchers 
 based in underfunded European countries can gain international visibility.
 \nMore information and a link to join the network can be found at https://
 www.cost.eu/actions/CA22130/\n \nComprehensive Multiboson Experiment-Theo
 ry Actionhttps://www.cost.eu\n\nhttps://indico.cern.ch/event/1661238/
URL:https://indico.cern.ch/event/1661238/
END:VEVENT
END:VCALENDAR
