BEGIN:VCALENDAR
VERSION:2.0
PRODID:-//CERN//INDICO//EN
BEGIN:VEVENT
SUMMARY:Discussion NGT challenges T1.4
DTSTART:20260309T140000Z
DTEND:20260309T150000Z
DTSTAMP:20260421T045500Z
UID:indico-event-1661537@indico.cern.ch
DESCRIPTION:https://indico.cern.ch/event/1661537/
LOCATION:31/S-028 (CERN)
URL:https://indico.cern.ch/event/1661537/
END:VEVENT
END:VCALENDAR
