BEGIN:VCALENDAR
VERSION:2.0
PRODID:-//CERN//INDICO//EN
BEGIN:VEVENT
SUMMARY:nTOF
DTSTART:20260518T090000Z
DTEND:20260518T100000Z
DTSTAMP:20260423T093500Z
UID:indico-event-1662367@indico.cern.ch
DESCRIPTION:Speakers: Alice Manna (CERN\, Geneva)\n\nAbstract\n\nhttps://i
 ndico.cern.ch/event/1662367/\n\nZoom: https://cern.zoom.us/j/63456304525?p
 wd=djJQKzZBL29PV0FLak1PU084Ym10dz09
LOCATION:BSP 626 (EPFL)
URL:https://indico.cern.ch/event/1662367/
END:VEVENT
END:VCALENDAR
