BEGIN:VCALENDAR
VERSION:2.0
PRODID:-//CERN//INDICO//EN
BEGIN:VEVENT
SUMMARY:IMCC Publication & Speakers' Committee Meeting
DTSTART:20260428T140000Z
DTEND:20260428T155500Z
DTSTAMP:20260422T175300Z
UID:indico-event-1662461@indico.cern.ch
DESCRIPTION:Conferences list\n \n\nhttps://indico.cern.ch/event/1662461/
URL:https://indico.cern.ch/event/1662461/
END:VEVENT
END:VCALENDAR
