BEGIN:VCALENDAR
VERSION:2.0
PRODID:-//CERN//INDICO//EN
BEGIN:VEVENT
SUMMARY:Teacher and Student Forum - Twentieth Meeting
DTSTART:20260324T130000Z
DTEND:20260324T153000Z
DTSTAMP:20260423T044000Z
UID:indico-event-1662892@indico.cern.ch
CONTACT:TeacherAndStudentForum-Contact@cern.ch
DESCRIPTION:Speakers: Sascha Schmeling (CERN)\n\nhttps://indico.cern.ch/ev
 ent/1662892/
URL:https://indico.cern.ch/event/1662892/
END:VEVENT
END:VCALENDAR
