BEGIN:VCALENDAR
VERSION:2.0
PRODID:-//CERN//INDICO//EN
BEGIN:VEVENT
SUMMARY:Trondheim katedralskole
DTSTART:20260317T080000Z
DTEND:20260317T160000Z
DTSTAMP:20260421T141800Z
UID:indico-event-1663066@indico.cern.ch
DESCRIPTION:Trondheim: \n\n\n\n\n\n\n\n\nVi er en klasse med 23 fysikkele
 ver (Fysikk 2) og to lærere fra Trondheim Katedralskole. \n\n\n\n\n\n\n\
 n\n\n\nMartin Skrove <marskr@trondelagfylke.no>\n\n\n\n\n\n\n\n\n\n\n\n\n\
 n\n\n\n\n\n\n \n \n \nRomreservasjon bekreftet.\n\n\n \n\n\n\nhttps://
 indico.cern.ch/event/1663066/
LOCATION:61/1-009 - Room C (CERN)
URL:https://indico.cern.ch/event/1663066/
END:VEVENT
END:VCALENDAR
