BEGIN:VCALENDAR
VERSION:2.0
PRODID:-//CERN//INDICO//EN
BEGIN:VEVENT
SUMMARY:SPOC Visit
DTSTART:20260318T080000Z
DTEND:20260318T110000Z
DTSTAMP:20260424T193900Z
UID:indico-event-1663300@indico.cern.ch
DESCRIPTION:https://indico.cern.ch/event/1663300/
LOCATION:73/3-017 (CERN)
URL:https://indico.cern.ch/event/1663300/
END:VEVENT
END:VCALENDAR
