BEGIN:VCALENDAR
VERSION:2.0
PRODID:-//CERN//INDICO//EN
BEGIN:VEVENT
SUMMARY:7th Open Science Practitioners Forum
DTSTART:20260415T140000Z
DTEND:20260415T160000Z
DTSTAMP:20260421T141700Z
UID:indico-event-1663984@indico.cern.ch
DESCRIPTION:https://indico.cern.ch/event/1663984/
URL:https://indico.cern.ch/event/1663984/
END:VEVENT
END:VCALENDAR
