BEGIN:VCALENDAR
VERSION:2.0
PRODID:-//CERN//INDICO//EN
BEGIN:VEVENT
SUMMARY:ASFAP—editing the final report
DTSTART:20260318T140000Z
DTEND:20260319T153500Z
DTSTAMP:20260423T014800Z
UID:indico-event-1664119@indico.cern.ch
DESCRIPTION:Speakers: Farida Fassi (Universite Mohammed V (MA))\, Ketevi A
 dikle Assamagan (Brookhaven National Laboratory (US))\, Simon Connell (Uni
 versity of Johannesburg (ZA))\, Fairouz Malek (LPSC-Grenoble\, CNRS -UGA\,
  France)\, Shaaban Khalil Ibrahim (ENHEP Egyptian Network of High Energy P
 hysics (EG))\n\nhttps://indico.cern.ch/event/1664119/
URL:https://indico.cern.ch/event/1664119/
END:VEVENT
END:VCALENDAR
