BEGIN:VCALENDAR
VERSION:2.0
PRODID:-//CERN//INDICO//EN
BEGIN:VEVENT
SUMMARY:MPGD IOC Meeting
DTSTART:20260319T130000Z
DTEND:20260319T140000Z
DTSTAMP:20260421T192300Z
UID:indico-event-1664357@indico.cern.ch
DESCRIPTION:https://indico.cern.ch/event/1664357/
URL:https://indico.cern.ch/event/1664357/
END:VEVENT
END:VCALENDAR
