BEGIN:VCALENDAR
VERSION:2.0
PRODID:-//CERN//INDICO//EN
BEGIN:VEVENT
SUMMARY:SCOAP3 Scenario Working Group Meeting
DTSTART:20260326T140000Z
DTEND:20260326T150000Z
DTSTAMP:20260424T005100Z
UID:indico-event-1664652@indico.cern.ch
DESCRIPTION:https://indico.cern.ch/event/1664652/
URL:https://indico.cern.ch/event/1664652/
END:VEVENT
END:VCALENDAR
