BEGIN:VCALENDAR
VERSION:2.0
PRODID:-//CERN//INDICO//EN
BEGIN:VEVENT
SUMMARY:SCOAP3 Scenario Working Group Meeting
DTSTART:20260402T130000Z
DTEND:20260402T140000Z
DTSTAMP:20260422T030800Z
UID:indico-event-1664653@indico.cern.ch
DESCRIPTION:https://indico.cern.ch/event/1664653/
URL:https://indico.cern.ch/event/1664653/
END:VEVENT
END:VCALENDAR
