BEGIN:VCALENDAR
VERSION:2.0
PRODID:-//CERN//INDICO//EN
BEGIN:VEVENT
SUMMARY:SCOAP3 Scenario Working Group Meeting
DTSTART:20260409T130000Z
DTEND:20260409T140000Z
DTSTAMP:20260423T114800Z
UID:indico-event-1664654@indico.cern.ch
DESCRIPTION:https://indico.cern.ch/event/1664654/
URL:https://indico.cern.ch/event/1664654/
END:VEVENT
END:VCALENDAR
