BEGIN:VCALENDAR
VERSION:2.0
PRODID:-//CERN//INDICO//EN
BEGIN:VEVENT
SUMMARY:CERN Priorities for OSCARS 2/ESCAPE 2
DTSTART:20260318T150000Z
DTEND:20260318T160000Z
DTSTAMP:20260421T045800Z
UID:indico-event-1664719@indico.cern.ch
DESCRIPTION:https://indico.cern.ch/event/1664719/\n\nZoom: https://cern.zo
 om.us/j/63603397874
LOCATION:600/R-001 (CERN)
URL:https://indico.cern.ch/event/1664719/
END:VEVENT
END:VCALENDAR
