BEGIN:VCALENDAR
VERSION:2.0
PRODID:-//CERN//INDICO//EN
BEGIN:VEVENT
SUMMARY:Greek Primary Schools
DTSTART:20260323T070000Z
DTEND:20260323T080000Z
DTSTAMP:20260422T033900Z
UID:indico-event-1664903@indico.cern.ch
DESCRIPTION:ATLAS Virtual Visit program Virtual Visits For our remote gu
 ests: ATLAS Introduction Video\n \n\nhttps://indico.cern.ch/event/166490
 3/\n\nZoom: https://cern.zoom.us/j/62210664620?pwd=NmkteblyPHo8Hu5RQ5dI2QI
 ODaMmUE.1
LOCATION:3162/R-D01 - ATLAS Visitor Centre (CERN)
URL:https://indico.cern.ch/event/1664903/
END:VEVENT
END:VCALENDAR
