BEGIN:VCALENDAR
VERSION:2.0
PRODID:-//CERN//INDICO//EN
BEGIN:VEVENT
SUMMARY:Planned Health 2026 - CERN Visit
DTSTART:20260519T070000Z
DTEND:20260519T165000Z
DTSTAMP:20260424T010800Z
UID:indico-event-1665375@indico.cern.ch
DESCRIPTION:https://indico.cern.ch/event/1665375/
LOCATION:CERN
URL:https://indico.cern.ch/event/1665375/
END:VEVENT
END:VCALENDAR
