BEGIN:VCALENDAR
VERSION:2.0
PRODID:-//CERN//INDICO//EN
BEGIN:VEVENT
SUMMARY:NextGenTrigger Task 1.7 Meeting
DTSTART:20260416T073000Z
DTEND:20260416T083000Z
DTSTAMP:20260421T160200Z
UID:indico-event-1665448@indico.cern.ch
DESCRIPTION:https://indico.cern.ch/event/1665448/
LOCATION:40/R-D10 (CERN)
URL:https://indico.cern.ch/event/1665448/
END:VEVENT
END:VCALENDAR
