BEGIN:VCALENDAR
VERSION:2.0
PRODID:-//CERN//INDICO//EN
BEGIN:VEVENT
SUMMARY:RAL Tier1 Experiments Liaison Meeting
DTSTART:20260401T123000Z
DTEND:20260401T145000Z
DTSTAMP:20260421T045500Z
UID:indico-event-1665682@indico.cern.ch
DESCRIPTION:https://indico.cern.ch/event/1665682/
LOCATION:Access Grid (RAL R89)
URL:https://indico.cern.ch/event/1665682/
END:VEVENT
END:VCALENDAR
