BEGIN:VCALENDAR
VERSION:2.0
PRODID:-//CERN//INDICO//EN
BEGIN:VEVENT
SUMMARY:Technical visit reduction in height of cable beam below barrack
DTSTART:20260319T133000Z
DTEND:20260319T140000Z
DTSTAMP:20260423T232800Z
UID:indico-event-1665870@indico.cern.ch
DESCRIPTION:https://indico.cern.ch/event/1665870/
URL:https://indico.cern.ch/event/1665870/
END:VEVENT
END:VCALENDAR
