BEGIN:VCALENDAR
VERSION:2.0
PRODID:-//CERN//INDICO//EN
BEGIN:VEVENT
SUMMARY:High Energy Physics Seminar
DTSTART:20260320T103000Z
DTEND:20260320T120000Z
DTSTAMP:20260422T071300Z
UID:indico-event-1666224@indico.cern.ch
CONTACT:katarzyna.grzelak@fuw.edu.pl
DESCRIPTION:https://indico.cern.ch/event/1666224/
LOCATION:Room: B2.38 (Wydział Fizyki UW)
URL:https://indico.cern.ch/event/1666224/
END:VEVENT
END:VCALENDAR
