BEGIN:VCALENDAR
VERSION:2.0
PRODID:-//CERN//INDICO//EN
BEGIN:VEVENT
SUMMARY:31# MuCol Management Committee
DTSTART:20260324T140000Z
DTEND:20260324T154000Z
DTSTAMP:20260423T044000Z
UID:indico-event-1666404@indico.cern.ch
DESCRIPTION:https://indico.cern.ch/event/1666404/
URL:https://indico.cern.ch/event/1666404/
END:VEVENT
END:VCALENDAR
