BEGIN:VCALENDAR
VERSION:2.0
PRODID:-//CERN//INDICO//EN
BEGIN:VEVENT
SUMMARY:RILIS coordination meeting 6
DTSTART:20260330T070000Z
DTEND:20260330T073500Z
DTSTAMP:20260423T082500Z
UID:indico-event-1666415@indico.cern.ch
DESCRIPTION:https://indico.cern.ch/event/1666415/
URL:https://indico.cern.ch/event/1666415/
END:VEVENT
END:VCALENDAR
