BEGIN:VCALENDAR
VERSION:2.0
PRODID:-//CERN//INDICO//EN
BEGIN:VEVENT
SUMMARY:HL Technical Coordination Meeting
DTSTART:20260402T080000Z
DTEND:20260402T100000Z
DTSTAMP:20260422T033800Z
UID:indico-event-1666987@indico.cern.ch
DESCRIPTION:Speakers: Paolo Fessia (CERN)\n\nhttps://indico.cern.ch/event/
 1666987/
URL:https://indico.cern.ch/event/1666987/
END:VEVENT
END:VCALENDAR
