BEGIN:VCALENDAR
VERSION:2.0
PRODID:-//CERN//INDICO//EN
BEGIN:VEVENT
SUMMARY:Quantum Computing Master Class
DTSTART:20260414T070000Z
DTEND:20260414T114000Z
DTSTAMP:20260421T182100Z
UID:indico-event-1667607@indico.cern.ch
DESCRIPTION:Speakers: Mario Méndez Martín (NASERTIC)\, Javier Berrueta (
 NASERTIC)\n\nTo celebrate the World Quantum Day on April 14th\, NASERTIC 
  will organize a pilot sesion of the International Quantum Computer Master
 classes outreach event focused on raising awareness of the transformative 
 power of quantum computing and promoting opportunities in this technologic
 al field among young students.\n\n\n\nParticipants will have the chance to
  experience firsthand the world of quantum computing and use a Quantum Com
 puter accessed in real-time\, provided by the Galician Supercomputing Cent
 er and the Barcelona Supercomputing Center\, and shared their results with
  other centers (CSUC-BSC Barcelona\, COMPUTAEX-CENITS\, Universidad de Can
 tabria\, UAM\, IST-Lisbon\, U. Warsow Poland).\nWe have organized a mornin
 g session from 09:00 to 13:30 (CEST) open to college or undergraduate stud
 ents\, as well as researchers and other profesionals\, consisting of:\n\n\
 nTalks by experts in the fields of quantum technologies\, cibersecurity an
 d criptography to analyse the impact of quantum technologies on the curren
 t cibersecurity protocols.\n\n\nA practical case allowing participants to 
 experience solving a problem by creating a quantum circuit and using real 
 quantum computers.\n\n\nTo conclude the session\, a simultaneous session i
 s organized among several international centers (via video conference) whe
 re students can discuss their results in a coordinated manner.\n\n\n \n*T
 here is a limited number of attendees to participate\; please request your
  registration in the following link: https://forms.office.com/e/g6QCNP0VpB
  \n\n\n\n \n\n\nhttps://indico.cern.ch/event/1667607/
IMAGE;VALUE=URI:https://indico.cern.ch/event/1667607/logo-196329721.png
LOCATION:NASERTIC
URL:https://indico.cern.ch/event/1667607/
END:VEVENT
END:VCALENDAR
