BEGIN:VCALENDAR
VERSION:2.0
PRODID:-//CERN//INDICO//EN
BEGIN:VEVENT
SUMMARY:Compressed air line re-routing
DTSTART:20260325T123000Z
DTEND:20260325T130000Z
DTSTAMP:20260421T125300Z
UID:indico-event-1667673@indico.cern.ch
DESCRIPTION:https://indico.cern.ch/event/1667673/
URL:https://indico.cern.ch/event/1667673/
END:VEVENT
END:VCALENDAR
