BEGIN:VCALENDAR
VERSION:2.0
PRODID:-//CERN//INDICO//EN
BEGIN:VEVENT
SUMMARY:Scientific Programme Committee 2026 - IMCC & MuCol Annual Meeting
DTSTART:20260327T150000Z
DTEND:20260327T160000Z
DTSTAMP:20260421T125200Z
UID:indico-event-1667982@indico.cern.ch
DESCRIPTION:Initiating the scientific program of the IMCC and MuCol Annual
  Meeting 2026\nThe annual meeting is 22-26th June 2026 at CERN\, Geneva. O
 fficial Indico page here: https://indico.cern.ch/event/1615465/\nPrelimin
 ary program proposal: https://docs.google.com/spreadsheets/d/1wiXDQtO-Y4S1
 czDZnd_ES_zPlUmROEV3xpQziChLy5k/edit?usp=sharing\nComments are welcome via
  the excel sheet\, or via email to both brosser@uchicago.edu and paul.jurj
 13@imperial.ac.uk\n\nhttps://indico.cern.ch/event/1667982/
URL:https://indico.cern.ch/event/1667982/
END:VEVENT
END:VCALENDAR
