BEGIN:VCALENDAR
VERSION:2.0
PRODID:-//CERN//INDICO//EN
BEGIN:VEVENT
SUMMARY:POLAB & HV LAB MEETING #101 WEEK 12: Weekly Activities + Presentat
 ions (D. Beaujoint\, S. Nourbakhsh)
DTSTART:20260319T130000Z
DTEND:20260319T143000Z
DTSTAMP:20260422T192800Z
UID:indico-event-1668357@indico.cern.ch
DESCRIPTION:https://indico.cern.ch/event/1668357/
URL:https://indico.cern.ch/event/1668357/
END:VEVENT
END:VCALENDAR
