BEGIN:VCALENDAR
VERSION:2.0
PRODID:-//CERN//INDICO//EN
BEGIN:VEVENT
SUMMARY:Rucio SIG Hierarchical Namespaces Kick-Off
DTSTART:20260422T130000Z
DTEND:20260422T143000Z
DTSTAMP:20260422T124700Z
UID:indico-event-1668371@indico.cern.ch
DESCRIPTION:Speakers: Martin Barisits (CERN)\, Maximilian Linhoff (TU Dort
 mund | CTAO)\n\nhttps://indico.cern.ch/event/1668371/
URL:https://indico.cern.ch/event/1668371/
END:VEVENT
END:VCALENDAR
