BEGIN:VCALENDAR
VERSION:2.0
PRODID:-//CERN//INDICO//EN
BEGIN:VEVENT
SUMMARY:TB: FBCT consolidation project
DTSTART:20260416T073000Z
DTEND:20260416T093000Z
DTSTAMP:20260422T103900Z
UID:indico-event-1668430@indico.cern.ch
DESCRIPTION:Speakers: Andrea Boccardi (CERN)\n\nhttps://indico.cern.ch/eve
 nt/1668430/
LOCATION:866/2-D05 (CERN)
URL:https://indico.cern.ch/event/1668430/
END:VEVENT
END:VCALENDAR
