BEGIN:VCALENDAR
VERSION:2.0
PRODID:-//CERN//INDICO//EN
BEGIN:VEVENT
SUMMARY:196th ROOT Parallelism\, Performance and Programming Model Meeting
DTSTART:20260409T140000Z
DTEND:20260409T150000Z
DTSTAMP:20260422T131100Z
UID:indico-event-1668889@indico.cern.ch
DESCRIPTION:Speakers: Vincenzo Eduardo Padulano (CERN)\, Marta Czurylo (CE
 RN)\n\nhttps://indico.cern.ch/event/1668889/
LOCATION:32/S-C22 (CERN)
URL:https://indico.cern.ch/event/1668889/
END:VEVENT
END:VCALENDAR
