BEGIN:VCALENDAR
VERSION:2.0
PRODID:-//CERN//INDICO//EN
BEGIN:VEVENT
SUMMARY:Coordination of PUMA crane attachment dismantling
DTSTART:20260330T064500Z
DTEND:20260330T070000Z
DTSTAMP:20260420T175700Z
UID:indico-event-1669389@indico.cern.ch
DESCRIPTION:https://indico.cern.ch/event/1669389/
LOCATION:CERN
URL:https://indico.cern.ch/event/1669389/
END:VEVENT
END:VCALENDAR
