BEGIN:VCALENDAR
VERSION:2.0
PRODID:-//CERN//INDICO//EN
BEGIN:VEVENT
SUMMARY:CMS Virtual Visit - Mumbai / India - Tata Institute of Fundamental
  Research (TIFR) - POSTPONED
DTSTART:20260331T103000Z
DTEND:20260331T113000Z
DTSTAMP:20260424T031900Z
UID:indico-event-1669659@indico.cern.ch
DESCRIPTION:The visit starts at 12:30 (CEST) / 16:00 (IST)\n\nhttps://indi
 co.cern.ch/event/1669659/
IMAGE;VALUE=URI:https://indico.cern.ch/event/1669659/logo-1859639879.png
LOCATION:3562 R-020 (CERN)
URL:https://indico.cern.ch/event/1669659/
END:VEVENT
END:VCALENDAR
