BEGIN:VCALENDAR
VERSION:2.0
PRODID:-//CERN//INDICO//EN
BEGIN:VEVENT
SUMMARY:PREFACE – CMS Forward Projects
DTSTART:20260331T070000Z
DTEND:20260401T163000Z
DTSTAMP:20260422T175200Z
UID:indico-event-1669719@indico.cern.ch
DESCRIPTION:Speakers: Suat Ozkorucuklu (Istanbul University (TR))\, Ilknur
  Hos (Istanbul University - Cerrahpasa (TR))\, Aldo Penzo (University of I
 owa (US))\n\nhttps://indico.cern.ch/event/1669719/
LOCATION:37/R-022 (CERN)
URL:https://indico.cern.ch/event/1669719/
END:VEVENT
END:VCALENDAR
