BEGIN:VCALENDAR
VERSION:2.0
PRODID:-//CERN//INDICO//EN
BEGIN:VEVENT
SUMMARY:Quantum Computing Master Class
DTSTART:20260414T080000Z
DTEND:20260414T150000Z
DTSTAMP:20260423T180500Z
UID:indico-event-1669893@indico.cern.ch
DESCRIPTION:Speakers: Yasser Omar (PQI – Portuguese Quantum Institute & 
 IST\, University of Lisbon)\n\nTo celebrate the World Quantum Day on April
  12th\, IST-U.Lisbon will organize the 1st Pilot session of the Internatio
 nal Quantum Computing Masterclass: an outreach event designed to raise awa
 reness among young students on the transformative power of quantum technol
 ogies in the field of information processing and computing .\n\n\n\nPartic
 ipants will have the chance to experience firsthand the world of quantum c
 omputing and use a Quantum Computer accessed in real-time\, provided by Ga
 lician Supuercomputing Center and the Barcelona Supercomputing Center\, an
 d shared their results with other centers ( CSUC-BSC Barcelona\, NASERTIC 
 Navarra\, COMPUTAEX-CENITS\, UC Universidad de Cantabria\, UAM\, IST-Lisbo
 n\, U. Warsow Poland)\nWe have organized a morning session from 10:00 to 1
 4:30 (CEST) open to college or undergraduate students\, consisting of:\n\n
 \nTalks by researchers from different centers explaining the fundamentals 
 and methods of fundamental quantum computing research to a group of studen
 ts.\n\n\nA practical case allowing participants to experience solving a pr
 oblem by creating a quantum circuit.\n\n\nTo conclude the session\, a simu
 ltaneous session is organized among several international centers (via vid
 eo conference) where students can discuss their results in a coordinated m
 anner.\n\n\n \n*There is a limited number of attendees to participate\; p
 lease request your registration at the top in the Registration section.\n\
 n\n\n \n \n\nhttps://indico.cern.ch/event/1669893/
IMAGE;VALUE=URI:https://indico.cern.ch/event/1669893/logo-1534181712.png
LOCATION:IST-U. Lisbon
URL:https://indico.cern.ch/event/1669893/
END:VEVENT
END:VCALENDAR
