BEGIN:VCALENDAR
VERSION:2.0
PRODID:-//CERN//INDICO//EN
BEGIN:VEVENT
SUMMARY:Test beam data analysis meeting on AIDAInnova samples 9
DTSTART:20260401T070000Z
DTEND:20260401T080000Z
DTSTAMP:20260424T160600Z
UID:indico-event-1669987@indico.cern.ch
DESCRIPTION:Speakers: Gregor Kramberger (Jozef Stefan Institute (SI))\, Iv
 an Vila Alvarez (Instituto de Física de Cantabria (CSIC-UC))\n\nhttps://i
 ndico.cern.ch/event/1669987/
URL:https://indico.cern.ch/event/1669987/
END:VEVENT
END:VCALENDAR
