BEGIN:VCALENDAR
VERSION:2.0
PRODID:-//CERN//INDICO//EN
BEGIN:VEVENT
SUMMARY:Machine Learning Service Office Hours meeting
DTSTART:20260415T130000Z
DTEND:20260415T140000Z
DTSTAMP:20260422T163800Z
UID:indico-event-1670081@indico.cern.ch
DESCRIPTION:https://indico.cern.ch/event/1670081/
LOCATION:600/R-001 (CERN)
URL:https://indico.cern.ch/event/1670081/
END:VEVENT
END:VCALENDAR
