BEGIN:VCALENDAR
VERSION:2.0
PRODID:-//CERN//INDICO//EN
BEGIN:VEVENT
SUMMARY:Facility R&D Biweekly
DTSTART:20260402T150000Z
DTEND:20260402T160000Z
DTSTAMP:20260422T092000Z
UID:indico-event-1671329@indico.cern.ch
DESCRIPTION:Facility R&D Biweekly Running Minutes & Connection Info\n\nhtt
 ps://indico.cern.ch/event/1671329/
URL:https://indico.cern.ch/event/1671329/
END:VEVENT
END:VCALENDAR
