BEGIN:VCALENDAR
VERSION:2.0
PRODID:-//CERN//INDICO//EN
BEGIN:VEVENT
SUMMARY:Weekly chat on High Level Reco for FCC
DTSTART:20260402T140000Z
DTEND:20260402T150000Z
DTSTAMP:20260421T045800Z
UID:indico-event-1671419@indico.cern.ch
DESCRIPTION:\n\n\n\n \nCodimd NOTES -> Please fill in BEFORE the meeting
  \n\n\n\n\n\nhttps://indico.cern.ch/event/1671419/
LOCATION:42/1-018 (CERN)
URL:https://indico.cern.ch/event/1671419/
END:VEVENT
END:VCALENDAR
