BEGIN:VCALENDAR
VERSION:2.0
PRODID:-//CERN//INDICO//EN
BEGIN:VEVENT
SUMMARY:Instituto Adventista do Paraná
DTSTART:20260407T150000Z
DTEND:20260407T160000Z
DTSTAMP:20260421T203100Z
UID:indico-event-1671959@indico.cern.ch
DESCRIPTION:ATLAS Virtual Visit program Virtual Visits For our remote gu
 ests: ATLAS Introduction Video\n \n\nhttps://indico.cern.ch/event/167195
 9/\n\nZoom: https://cern.zoom.us/j/65423394808?pwd=xHysPeaGbUaBnJqJlWuavaP
 XtcaFq8.1
LOCATION:3162/R-D01 - ATLAS Visitor Centre (CERN)
URL:https://indico.cern.ch/event/1671959/
END:VEVENT
END:VCALENDAR
