BEGIN:VCALENDAR
VERSION:2.0
PRODID:-//CERN//INDICO//EN
BEGIN:VEVENT
SUMMARY:Computational HEP Traineeship Summer School 2026
DTSTART:20260810T130000Z
DTEND:20260814T190000Z
DTSTAMP:20260423T163300Z
UID:indico-event-1672591@indico.cern.ch
DESCRIPTION:Summer school for graduate students in the DOE Traineeship in 
 Computational HEP programs TAC-HEP\, WATCHEP and C2-THE-P2 and LGT4HEP. Th
 e event will be hosted at BNL starting from the morning of August 10th and
  ending on August 14th around lunchtime.\nThis training event is supported
  by Department of Energy grants DE-SC0023528 (TAC-HEP)\, DE-SC0023527 (WAT
 CHEP)\,  DE-SC0023524 (C2-THE-P2)  and DE-SC0024053 (LGT4HEP). Any opini
 ons\, findings\, conclusions or recommendations expressed in this material
  are those of the developers and do not necessarily reflect the views of t
 he Department of Energy.\n\nhttps://indico.cern.ch/event/1672591/
LOCATION:BNL
URL:https://indico.cern.ch/event/1672591/
END:VEVENT
END:VCALENDAR
