BEGIN:VCALENDAR
VERSION:2.0
PRODID:-//CERN//INDICO//EN
BEGIN:VEVENT
SUMMARY:CMS Virtual Visit - Nagykőrös / Hungary - Arany János Reformát
 us Gimnázium és Kollégium
DTSTART:20260422T090000Z
DTEND:20260422T100000Z
DTSTAMP:20260424T002500Z
UID:indico-event-1672971@indico.cern.ch
DESCRIPTION:Virtual visit from Arany János Református Gimnázium és Kol
 légium Nagykőrös\, Hungary \nVirtuális látogatás a nagykőrösi Ara
 ny János Református Gimnázium és Kollégium részére. \n \n\nA nagy
 kőrösi Arany János Református Gimnázium és Kollégiumban keresztény
  nemzeti szellemben neveljük tanulóinkat. Megőrizve hagyományainak úg
 y\, hogy minél innovatívabb módszerekkel segítsünk tudásuk bővíté
 sét. tanáraink lelkiismeretes munkája felkészültségének köszönhet
 ően kiváló alapokat nyújtunk ahhoz\, hogy diákjaink művelt tájékoz
 ott keresztény világnézetű\, egyházunkhoz hű emberként éljenek. Na
 gy gondot fordítunk a tehetséggondozásra\, így diákjanikat felkészí
 tjük különféle versenyekre.\nHatévfolyamos tehetséggondozó\, négy
 évfolyamos magasabb óraszámú természettudományos orientáltságú os
 ztály és normál tantervű képzésünk van. \nMűködik nálunk fizika
 \, kémia és biológia fakultáció valamint komplex természettudományo
 s tehetséggondozó program érdeklődő diákoknak.\n \nThe website of t
 he school / Az iskola weblapja: https://www.ajrg.hu/\n \n \n \n\nhttps:
 //indico.cern.ch/event/1672971/
IMAGE;VALUE=URI:https://indico.cern.ch/event/1672971/logo-2879099843.png
LOCATION:3562 R-005 (CERN)
URL:https://indico.cern.ch/event/1672971/
END:VEVENT
END:VCALENDAR
