BEGIN:VCALENDAR
VERSION:2.0
PRODID:-//CERN//INDICO//EN
BEGIN:VEVENT
SUMMARY:Ddev
DTSTART:20260423T080000Z
DTEND:20260423T100000Z
DTSTAMP:20260421T125300Z
UID:indico-event-1673589@indico.cern.ch
DESCRIPTION:https://indico.cern.ch/event/1673589/
LOCATION:2/R-014 (CERN)
URL:https://indico.cern.ch/event/1673589/
END:VEVENT
END:VCALENDAR
