BEGIN:VCALENDAR
VERSION:2.0
PRODID:-//CERN//INDICO//EN
BEGIN:VEVENT
SUMMARY:AWAKE Run 2c Injection Region Design Review
DTSTART:20260430T060000Z
DTEND:20260430T160000Z
DTSTAMP:20260423T031600Z
UID:indico-event-1673649@indico.cern.ch
DESCRIPTION:https://indico.cern.ch/event/1673649/
LOCATION:354/1-019 (CERN)
URL:https://indico.cern.ch/event/1673649/
END:VEVENT
END:VCALENDAR
