BEGIN:VCALENDAR
VERSION:2.0
PRODID:-//CERN//INDICO//EN
BEGIN:VEVENT
SUMMARY:Machine Learning Service Office Hours meeting
DTSTART:20260422T130000Z
DTEND:20260422T140000Z
DTSTAMP:20260422T163900Z
UID:indico-event-1675975@indico.cern.ch
DESCRIPTION:https://indico.cern.ch/event/1675975/
LOCATION:600/R-002 (CERN)
URL:https://indico.cern.ch/event/1675975/
END:VEVENT
END:VCALENDAR
